BEGIN:VCALENDAR
VERSION:2.0
CALSCALE:GREGORIAN
PRODID:-//Diputació de Barcelona//DibaCMS//EN
BEGIN:VEVENT
UID:DI_13273@www.parets.cat
DTSTAMP:20260422T031421
DTSTART:20260417T000000
DTEND:20260522T000000
SUMMARY:Exposició fotogràfica. Gallecs, la natura des del blanc i negre
LOCATION:Sala d’Exposicions de l’Escola de la Natura 
METHOD:PUBLISH
X-WR-CALNAME:info@parets.cat
X-WR-TIMEZONE:Europe/Madrid
DESCRIPTION:Exposició fotogràfica. Gallecs, la natura des del
	 blanc i negre. Autor: Josep Maria Rio Poch.
URI:https://www.parets.cat/actualitat/agenda/exposicio-fotografica-gallecs-la-natura-des-del-blanc-i-negre.html
CLASS:PUBLIC
END:VEVENT
BEGIN:VEVENT
UID:DI_13210@www.parets.cat
DTSTAMP:20260422T031421
DTSTART:20260423T100000
DTEND:20260423T130000
SUMMARY:Taller de Sant Jordi
LOCATION:Plaça de la Vila 
METHOD:PUBLISH
X-WR-CALNAME:info@parets.cat
X-WR-TIMEZONE:Europe/Madrid
DESCRIPTION:Taller de Sant Jordi, a càrrec de la biblioteca. A les 1
	7:30h: Entrega dels guanyadors del concurs de Punts de Llibre.
URI:https://www.parets.cat/actualitat/agenda/taller-de-sant-jordi.html
CLASS:PUBLIC
END:VEVENT
BEGIN:VEVENT
UID:DI_13208@www.parets.cat
DTSTAMP:20260422T031421
DTSTART:20260423T173000
DTEND:20260423T183000
SUMMARY:Hora del Conte especial Sant Jordi
LOCATION:La Salut, 52 08150 Parets del Vallès
METHOD:PUBLISH
X-WR-CALNAME:info@parets.cat
X-WR-TIMEZONE:Europe/Madrid
DESCRIPTION:Hora del Conte especial Sant Jordi: “Sant Jordi i altres 
	contes populars catalans”, a càrrec de Joan de Boer. No cal i
	nscripció. L’edat recomanada és a partir de 3 anys.
URI:https://www.parets.cat/actualitat/agenda/13208-hora-del-conte-especial-sant-jordi.html
CLASS:PUBLIC
END:VEVENT
BEGIN:VEVENT
UID:DI_13209@www.parets.cat
DTSTAMP:20260422T031421
DTSTART:20260423T180000
DTEND:20260423T190000
SUMMARY:Escènica familiar:Girafes
LOCATION:Plaça de la Vila 
METHOD:PUBLISH
X-WR-CALNAME:info@parets.cat
X-WR-TIMEZONE:Europe/Madrid
DESCRIPTION:Girafes. Cia. Xirriquiteula Teatre. Una família de giraf
	es passegen en mig de la civilització. Sorpreses i desubicades, int
	eractuen amb tot el que es troben. La curiositat les porta a crear situaci
	ons tant surrealistes com poètiques. Recomanat per a totes les edat
	s. Espectacle  gratuït.
URI:https://www.parets.cat/actualitat/agenda/escenica-familiargirafes.html
CLASS:PUBLIC
END:VEVENT
BEGIN:VEVENT
UID:DI_13211@www.parets.cat
DTSTAMP:20260422T031421
DTSTART:20260424T100000
DTEND:20260424T113000
SUMMARY:Club de lectura en francès
LOCATION:Travessera, 1. 08150 Parets del Vallès
METHOD:PUBLISH
X-WR-CALNAME:info@parets.cat
X-WR-TIMEZONE:Europe/Madrid
DESCRIPTION:Club de lectura en francès. Tertúlia al voltant d
	e la novel·la Mémoire de fille, d'Annie Ernaux. A c
	àrrec de Lorena Llorente. Cal inscripció prèvia.
URI:https://www.parets.cat/actualitat/agenda/club-de-lectura-en-frances.html
CLASS:PUBLIC
END:VEVENT
BEGIN:VEVENT
UID:DI_13231@www.parets.cat
DTSTAMP:20260422T031421
DTSTART:20260424T200000
DTEND:20260424T220000
SUMMARY:Sessions d'Astronomia infantil i familiar
LOCATION:Escola de la Natura 
METHOD:PUBLISH
X-WR-CALNAME:info@parets.cat
X-WR-TIMEZONE:Europe/Madrid
DESCRIPTION:Sessions d'Astronomia infantil i familiar. Primavera 2026. 
	Audiovisual: Tornem a la Lluna: d'Apol·lo a Artemis. Observaci&
	oacute;: La Lluna i Júpiter. Informació i reserves: Al web d
	e l'Escola de la Natura escola.natura@parets.cat Tel. 935621794
URI:https://www.parets.cat/actualitat/agenda/sessions-dastronomia-infantil-i-familiar.html
CLASS:PUBLIC
END:VEVENT
BEGIN:VEVENT
UID:DI_13222@www.parets.cat
DTSTAMP:20260422T031421
DTSTART:20260424T210000
DTEND:20260424T230000
SUMMARY:Sessions d'Astronomia primavera 2026
LOCATION:Observatori Astronòmic Josep Mauri  (Escola Pau Vila) 
METHOD:PUBLISH
X-WR-CALNAME:info@parets.cat
X-WR-TIMEZONE:Europe/Madrid
DESCRIPTION:Sessions d'astronomia primavera 2026. Audiovisual: Iniciaci
	ó a l'astronomia. Observació: Lluna i Júpiter. In
	formació i reserves al web de l'Escola de la Natura escola.natu
	ra@parets.cat Tel. 935621794
URI:https://www.parets.cat/actualitat/agenda/13222-sessions-dastronomia-primavera-2026.html
CLASS:PUBLIC
END:VEVENT
BEGIN:VEVENT
UID:DI_13212@www.parets.cat
DTSTAMP:20260422T031421
DTSTART:20260425T051500
DTEND:20260425T193000
SUMMARY:La Bastarda
LOCATION:Parc dels Castellers 
METHOD:PUBLISH
X-WR-CALNAME:info@parets.cat
X-WR-TIMEZONE:Europe/Madrid
DESCRIPTION:La Bastarda. Marxa de resistència.
URI:https://www.parets.cat/actualitat/agenda/la-bastarda.html
CLASS:PUBLIC
END:VEVENT
BEGIN:VEVENT
UID:DI_13022@www.parets.cat
DTSTAMP:20260422T031421
DTSTART:20260425T100000
DTEND:20260425T130000
SUMMARY:Mini Congrés Benestar Emocional
LOCATION:Plaça de la Vila, S/N 08150 Parets del Vallès
METHOD:PUBLISH
X-WR-CALNAME:info@parets.cat
X-WR-TIMEZONE:Europe/Madrid
DESCRIPTION:Mini Congrés de Benestar Emocional: Ressonàncies 
	de Benestar: So, Soroll i Consciència Conjunt d’experi&egrave
	;ncies teoricopràctiques de 3 hores, impartides per l’equip m
	otor i una altra professional, sobre els cinc àmbits fonamentals de
	l Benestar Emocional: Relacions, Físic, nutrició i descans, 
	Consciència, connexió corporal, espiritual i emocional, Psic
	oemocional i Musicoteràpia i natura. Per a més informaci&oac
	ute; ens podeu escriure a benestar.emocional@parets.cat o trucar al 6
	67 830 121.
URI:https://www.parets.cat/actualitat/agenda/13022-mini-congres-benestar-emocional.html
CLASS:PUBLIC
END:VEVENT
BEGIN:VEVENT
UID:DI_13213@www.parets.cat
DTSTAMP:20260422T031421
DTSTART:20260425T110000
DTEND:20260425T120000
SUMMARY:Dissabte en família a la biblioteca Can Butjosa
LOCATION:La Salut, 52 08150 Parets del Vallès
METHOD:PUBLISH
X-WR-CALNAME:info@parets.cat
X-WR-TIMEZONE:Europe/Madrid
DESCRIPTION:Dissabte en família: Hora del Conte, a càrrec de 
	Caro von Arend. Edat recomanada: a partir de 3 anys. No cal inscripci&oacu
	te;.
URI:https://www.parets.cat/actualitat/agenda/dissabte-en-familia-a-la-biblioteca-can-butjosa.html
CLASS:PUBLIC
END:VEVENT
BEGIN:VEVENT
UID:DI_13215@www.parets.cat
DTSTAMP:20260422T031421
DTSTART:20260426T183000
DTEND:20260426T210000
SUMMARY:Cicle Gaudí: Mi amiga Eva (pel·lícula+col·loqui)
LOCATION:Travessera, 1. 08150 Parets del Vallès
METHOD:PUBLISH
X-WR-CALNAME:info@parets.cat
X-WR-TIMEZONE:Europe/Madrid
DESCRIPTION:Nora Navas, Juan Diego Botto i Rodrigo de la Serna protagonitze
	n la nova comèdia de Cesc Gay, una història coral amb el seu
	 segell distintiu: les peripècies d’uns personatges terrenals
	 i propers i uns diàlegs imaginatius i eloqüents. Amb un gui&o
	acute; ple de sorpreses al més pur estil Cesc Gay i una Nora Navas 
	radiant, Mi amiga Eva és un cant a la llibertat i a la joia de viur
	e a qualsevol edat, on les inseguretats, els errors i les incerteses s&oac
	ute;n benvingudes. Una comèdia imprescindible que ha reunit a m&eac
	ute;s de 145.000 espectadors a les sales, sent un dels fenòmens del
	 boca-orella de la temporada passada. Venda d'entrades a espectacles.p
	arets.cat
URI:https://www.parets.cat/actualitat/agenda/cicle-gaudi-mi-amiga-eva-pelliculacolloqui.html
CLASS:PUBLIC
END:VEVENT
BEGIN:VEVENT
UID:DI_13236@www.parets.cat
DTSTAMP:20260422T031421
DTSTART:20260427T100000
DTEND:20260427T120000
SUMMARY:Parets amb flors
LOCATION:Cantonada Montserrat Roig amb Mercè Rodoreda, al costat del Parc del Sot d'en Barriques.

 
METHOD:PUBLISH
X-WR-CALNAME:info@parets.cat
X-WR-TIMEZONE:Europe/Madrid
DESCRIPTION:Tots els dilluns del 16 de març al 22 de juny. Cursos de
	 jardineria, rec, malalties, flors, plantes aromàtiques, remeieres,
	 jardins verticals. Tot amb teòriques i treballs pràctics. I
	nformació i reserves: Al web de l'Escola de la Natura escola.na
	tura@parets.cat Tel. 935621794
URI:https://www.parets.cat/actualitat/agenda/13236-parets-amb-flors.html
CLASS:PUBLIC
END:VEVENT
BEGIN:VEVENT
UID:DI_13214@www.parets.cat
DTSTAMP:20260422T031421
DTSTART:20260427T183000
DTEND:20260427T200000
SUMMARY:Groupe de conversation en français
LOCATION:Travessera, 1. 08150 Parets del Vallès
METHOD:PUBLISH
X-WR-CALNAME:info@parets.cat
X-WR-TIMEZONE:Europe/Madrid
DESCRIPTION:Grup de conversa en francès. A càrrec de Marlen C
	astro. Cal inscripció prèvia
URI:https://www.parets.cat/actualitat/agenda/13214-groupe-de-conversation-en-francais.html
CLASS:PUBLIC
END:VEVENT
BEGIN:VEVENT
UID:DI_13216@www.parets.cat
DTSTAMP:20260422T031421
DTSTART:20260429T100000
DTEND:20260429T113000
SUMMARY:Club de lectura a la biblioteca Can Rajoler
LOCATION:Travessera, 1. 08150 Parets del Vallès
METHOD:PUBLISH
X-WR-CALNAME:info@parets.cat
X-WR-TIMEZONE:Europe/Madrid
DESCRIPTION:Club de lectura Bon dia. Comentarem el llibre Victoria, de Palo
	ma Sánchez-Garnica. A càrrec de Laura Català i Lorena
	 Llorente. Cal inscripció prèvia.
URI:https://www.parets.cat/actualitat/agenda/13216-club-de-lectura-a-la-biblioteca-can-rajoler.html
CLASS:PUBLIC
END:VEVENT
BEGIN:VEVENT
UID:DI_13217@www.parets.cat
DTSTAMP:20260422T031421
DTSTART:20260429T173000
DTEND:20260429T183000
SUMMARY:Club de còmic infantil 
LOCATION:Sala de reunions Can Rajoler 
METHOD:PUBLISH
X-WR-CALNAME:info@parets.cat
X-WR-TIMEZONE:Europe/Madrid
DESCRIPTION:Club de còmic infantil, a càrrec de la biblioteca
	. Cal inscripció prèvia.
URI:https://www.parets.cat/actualitat/agenda/club-de-comic-infantil-.html
CLASS:PUBLIC
END:VEVENT
BEGIN:VEVENT
UID:DI_13218@www.parets.cat
DTSTAMP:20260422T031421
DTSTART:20260429T183000
DTEND:20260429T200000
SUMMARY:Club de lectura a la biblioteca Can Rajoler
LOCATION:Travessera, 1. 08150 Parets del Vallès
METHOD:PUBLISH
X-WR-CALNAME:info@parets.cat
X-WR-TIMEZONE:Europe/Madrid
DESCRIPTION:Club de lectura. El llibre a comentar és  La tregua
	, de Mario Benedetti, a càrrec de la biblioteca. Cal inscripci&oacu
	te; prèvia.
URI:https://www.parets.cat/actualitat/agenda/13218-club-de-lectura-a-la-biblioteca-can-rajoler.html
CLASS:PUBLIC
END:VEVENT
BEGIN:VEVENT
UID:DI_13220@www.parets.cat
DTSTAMP:20260422T031421
DTSTART:20260430T173000
DTEND:20260430T183000
SUMMARY:Hora del conte a la biblioteca Can Butjosa
LOCATION:La Salut, 52 08150 Parets del Vallès
METHOD:PUBLISH
X-WR-CALNAME:info@parets.cat
X-WR-TIMEZONE:Europe/Madrid
DESCRIPTION:Hora del conte, a càrrec de Sònia Fernánde
	z. No cal inscripció. L’edat recomanada és a part
	ir de 3 anys
URI:https://www.parets.cat/actualitat/agenda/13220-hora-del-conte-a-la-biblioteca-can-butjosa.html
CLASS:PUBLIC
END:VEVENT
BEGIN:VEVENT
UID:DI_13219@www.parets.cat
DTSTAMP:20260422T031421
DTSTART:20260430T183000
DTEND:20260430T200000
SUMMARY:Taller d’escriptura creativa a la biblioteca Can Rajoler
LOCATION:Travessera, 1. 08150 Parets del Vallès
METHOD:PUBLISH
X-WR-CALNAME:info@parets.cat
X-WR-TIMEZONE:Europe/Madrid
DESCRIPTION:Taller d’escriptura creativa, a càrrec de Concha M
	ateo. Cal inscripció prèvia.
URI:https://www.parets.cat/actualitat/agenda/13219-taller-descriptura-creativa-a-la-biblioteca-can-rajoler.html
CLASS:PUBLIC
END:VEVENT
BEGIN:VEVENT
UID:DI_13175@www.parets.cat
DTSTAMP:20260422T031421
DTSTART:20260503T193000
DTEND:20260503T204500
SUMMARY:Teatre: Honestedat
LOCATION:Travessera, 1. 08150 Parets del Vallès
METHOD:PUBLISH
X-WR-CALNAME:info@parets.cat
X-WR-TIMEZONE:Europe/Madrid
DESCRIPTION:Dirigit per Francesc Cuéllar amb  Míria
	m Iscla  i Dafnis Balduz. El sí et compromet, però
	 el no et defineix Una actriu veterana es nega a rodar una escena de nu cr
	ucial i desferma un conflicte amb el seu jove director i amic, una decisi&
	oacute; que amenaça de trencar la seva relació. Aquesta nega
	tiva, aparentment professional, revela un profund debat sobre l’hone
	stedat artística, el consentiment i el poder en les relacions perso
	nals dins del món audiovisual. Un duel intens on l’amistat es
	 posa a prova i els ideals topen amb les cures, l’estima o l’a
	mbició.  
URI:https://www.parets.cat/actualitat/agenda/teatre-honestedat.html
CLASS:PUBLIC
END:VEVENT
BEGIN:VEVENT
UID:DI_13275@www.parets.cat
DTSTAMP:20260422T031421
DTSTART:20260504T100000
DTEND:20260504T120000
SUMMARY:Parets amb flors
LOCATION:Cantonada Montserrat Roig amb Mercè Rodoreda, al costat del Parc del Sot d'en Barriques 
METHOD:PUBLISH
X-WR-CALNAME:info@parets.cat
X-WR-TIMEZONE:Europe/Madrid
DESCRIPTION:Parets amb flors. Cursos de jardineria, rec, malalties, flors, 
	plantes aromàtiques, remeieres, jardins verticals. Tot amb te&ograv
	e;riques i treballs pràctics. Informació i reserves: Al web 
	de l'Escola de la Natura. escola.natura@parets.cat Tel. 935621794
	.  
URI:https://www.parets.cat/actualitat/agenda/13275-parets-amb-flors.html
CLASS:PUBLIC
END:VEVENT
BEGIN:VEVENT
UID:DI_13034@www.parets.cat
DTSTAMP:20260422T031421
DTSTART:20260508T170000
DTEND:20260508T183000
SUMMARY:"Tardeo" Benestar acroioga en família
LOCATION:La Salut, 52 08150 Parets del Vallès
METHOD:PUBLISH
X-WR-CALNAME:info@parets.cat
X-WR-TIMEZONE:Europe/Madrid
DESCRIPTION:"Tardeo" Benestar acroioga en família “T
	ardeo” de benestar orientat a fomentar la participació de les
	 famílies en un entorn cultural i educatiu com és la bibliot
	eca municipal. La finalitat d’aquesta iniciativa és refor&cce
	dil;ar els vincles familiars i promoure hàbits saludables de social
	ització i benestar emocional a través de propostes lú
	diques i formatives. Per a més informació ens podeu escriure
	 a benestar.emocional@parets.cat o trucar al 667 830 121.
URI:https://www.parets.cat/actualitat/agenda/tardeo-benestar-acroioga-en-familia.html
CLASS:PUBLIC
END:VEVENT
BEGIN:VEVENT
UID:DI_13276@www.parets.cat
DTSTAMP:20260422T031421
DTSTART:20260511T100000
DTEND:20260511T120000
SUMMARY:Parets amb flors
LOCATION:Cantonada Montserrat Roig amb Mercè Rodoreda, al costat del Parc del Sot d'en Barriques 
METHOD:PUBLISH
X-WR-CALNAME:info@parets.cat
X-WR-TIMEZONE:Europe/Madrid
DESCRIPTION:Parets amb flors. Cursos de jardineria, rec, malalties, flors, 
	plantes aromàtiques, remeieres, jardins verticals. Tot amb te&ograv
	e;riques i treballs pràctics. Informació i reserves: Al web 
	de l'Escola de la Natura. escola.natura@parets.cat Tel. 935621794
URI:https://www.parets.cat/actualitat/agenda/13276-parets-amb-flors.html
CLASS:PUBLIC
END:VEVENT
BEGIN:VEVENT
UID:DI_13023@www.parets.cat
DTSTAMP:20260422T031421
DTSTART:20260515T160000
DTEND:20260515T190000
SUMMARY:"Tardeo" Benestar Emocional 
LOCATION:Plaça de la Vila, S/N 08150 Parets del Vallès
METHOD:PUBLISH
X-WR-CALNAME:info@parets.cat
X-WR-TIMEZONE:Europe/Madrid
DESCRIPTION:"Tardeo" de Benestar Emocional, a càrrec de Ja
	ime de Nassos Pallassos. Espai segur que busca proporcionar un entorn d&rs
	quo;aprenentatge i comprensió de diverses temàtiques vincula
	des al benestar emocional. Es configuren com un espai de trobada destinat 
	a afavorir la participació, la socialització i l’inter
	canvi d’experiències, promovent el respecte i la confian&cced
	il;a. Per a més informació ens podeu escriure a benesta
	r.emocional@parets.cat o trucar al 667 830 121.
URI:https://www.parets.cat/actualitat/agenda/tardeo-benestar-emocional-.html
CLASS:PUBLIC
END:VEVENT
BEGIN:VEVENT
UID:DI_13176@www.parets.cat
DTSTAMP:20260422T031421
DTSTART:20260517T193000
DTEND:20260517T213000
SUMMARY:Música: El compás olvidado
LOCATION:Travessera, 1. 08150 Parets del Vallès
METHOD:PUBLISH
X-WR-CALNAME:info@parets.cat
X-WR-TIMEZONE:Europe/Madrid
DESCRIPTION:Un relat emocional i pedagògic que explica la hist&ograv
	e;ria dels gitanos a Espanya. El Compás Olvidado, de Paco Here
	dia, és un concert que  commemora els 600 anys de l'arriba
	da del poble gitano a la península Ibèrica i en reivindica l
	a memòria, la cultura i la resiliència a través de la
	 música. S'hi alternen números musicals amb exposicions 
	sobre temàtica etnomusicològica, on s'interactua amb el 
	públic, de manera que es crea un esdeveniment únic i exclusi
	u. Més enllà de la música, ens convida a mirar de car
	a una història marcada per la lluita, la marginació i, sobre
	tot, la resistència. El reconegut artista paretà ens torna a
	 emocionar amb la seva guitarra.
URI:https://www.parets.cat/actualitat/agenda/musica-el-compas-olvidado.html
CLASS:PUBLIC
END:VEVENT
BEGIN:VEVENT
UID:DI_13277@www.parets.cat
DTSTAMP:20260422T031421
DTSTART:20260518T100000
DTEND:20260518T120000
SUMMARY:Parets amb flors
LOCATION:Cantonada Montserrat Roig amb Mercè Rodoreda, al costat del Parc del Sot d'en Barriques 
METHOD:PUBLISH
X-WR-CALNAME:info@parets.cat
X-WR-TIMEZONE:Europe/Madrid
DESCRIPTION:Parets amb flors. Cursos de jardineria, rec, malalties, flors, 
	plantes aromàtiques, remeieres, jardins verticals. Tot amb te&ograv
	e;riques i treballs pràctics. Informació i reserves: Al web 
	de l'Escola de la Natura. escola.natura@parets.cat Tel. 935621794
URI:https://www.parets.cat/actualitat/agenda/13277-parets-amb-flors.html
CLASS:PUBLIC
END:VEVENT
BEGIN:VEVENT
UID:DI_13278@www.parets.cat
DTSTAMP:20260422T031421
DTSTART:20260525T100000
DTEND:20260525T120000
SUMMARY:Parets amb flors
LOCATION:Cantonada Montserrat Roig amb Mercè Rodoreda, al costat del Parc del Sot d'en Barriques 
METHOD:PUBLISH
X-WR-CALNAME:info@parets.cat
X-WR-TIMEZONE:Europe/Madrid
DESCRIPTION:Parets amb flors. Cursos de jardineria, rec, malalties, flors, 
	plantes aromàtiques, remeieres, jardins verticals. Tot amb te&ograv
	e;riques i treballs pràctics. Informació i reserves: Al web 
	de l'Escola de la Natura. escola.natura@parets.cat Tel. 935621794
URI:https://www.parets.cat/actualitat/agenda/13278-parets-amb-flors.html
CLASS:PUBLIC
END:VEVENT
BEGIN:VEVENT
UID:DI_13024@www.parets.cat
DTSTAMP:20260422T031421
DTSTART:20260530T100000
DTEND:20260530T130000
SUMMARY:Mini Congrés Benestar Emocional
LOCATION:Plaça de la Vila, S/N 08150 Parets del Vallès
METHOD:PUBLISH
X-WR-CALNAME:info@parets.cat
X-WR-TIMEZONE:Europe/Madrid
DESCRIPTION:Mini Congrés de Benestar Emocional: Psicoemocional. Conj
	unt d’experiències teoricopràctiques de 3 hores, impar
	tides per l’equip motor i una altra professional, sobre els cinc &ag
	rave;mbits fonamentals del Benestar Emocional: Relacions, Físic, nu
	trició i descans, Consciència, connexió corporal, esp
	iritual i emocional, Psicoemocional i Musicoteràpia i natura. Per a
	 més informació ens podeu escriure a benestar.emocional
	@parets.cat o trucar al 667 830 121
URI:https://www.parets.cat/actualitat/agenda/13024-mini-congres-benestar-emocional.html
CLASS:PUBLIC
END:VEVENT
BEGIN:VEVENT
UID:DI_13035@www.parets.cat
DTSTAMP:20260422T031421
DTSTART:20260605T200000
DTEND:20260605T220000
SUMMARY:Som Aigua
LOCATION:
METHOD:PUBLISH
X-WR-CALNAME:info@parets.cat
X-WR-TIMEZONE:Europe/Madrid
DESCRIPTION:Som Aigua: Banys sonors i meditació guiada en contacte a
	mb l'aigua.  Els banys sonors constitueixen una pràctica d
	e benestar basada en l’ús de vibracions i freqüèn
	cies musicals generades per instruments harmònics (com bols tibetan
	s, etc). Aquesta activitat té com a objectiu afavorir un estat de r
	elaxació profunda i millorar la regulació emocional mitjan&c
	cedil;ant l’estimulació sensorial auditiva. Per a més 
	informació ens podeu escriure a benestar.emocional@parets.cat 
	o trucar al 667 830 121.
URI:https://www.parets.cat/actualitat/agenda/som-aigua.html
CLASS:PUBLIC
END:VEVENT
BEGIN:VEVENT
UID:DI_13036@www.parets.cat
DTSTAMP:20260422T031421
DTSTART:20260710T200000
DTEND:20260710T220000
SUMMARY:Som Aigua
LOCATION:
METHOD:PUBLISH
X-WR-CALNAME:info@parets.cat
X-WR-TIMEZONE:Europe/Madrid
DESCRIPTION:Som Aigua: Banys sonors i meditació guiada en conta
	cte amb l'aigua. Els banys sonors constitueixen una pràctica de
	 benestar basada en l’ús de vibracions i freqüènc
	ies musicals generades per instruments harmònics (com bols tibetans
	, etc). Aquesta activitat té com a objectiu afavorir un estat de re
	laxació profunda i millorar la regulació emocional mitjan&cc
	edil;ant l’estimulació sensorial auditiva. Per a més i
	nformació ens podeu escriure a benestar.emocional@parets.cat o
	 trucar al 667 830 121.
URI:https://www.parets.cat/actualitat/agenda/13036-som-aigua.html
CLASS:PUBLIC
END:VEVENT
BEGIN:VEVENT
UID:DI_13025@www.parets.cat
DTSTAMP:20260422T031421
DTSTART:20260904T160000
DTEND:20260904T190000
SUMMARY:"Tardeo" Benestar Emocional
LOCATION:Sala Serra 
METHOD:PUBLISH
X-WR-CALNAME:info@parets.cat
X-WR-TIMEZONE:Europe/Madrid
DESCRIPTION:"Tardeo" de Benestar Emocional, a càrrec de Pr
	iscila. Espai segur que busca proporcionar un entorn d’aprenentatge 
	i comprensió de diverses temàtiques vinculades al benestar e
	mocional. Es configuren com un espai de trobada destinat a afavorir la par
	ticipació, la socialització i l’intercanvi d’exp
	eriències, promovent el respecte i la confiança. Per a m&eac
	ute;s informació ens podeu escriure a benestar.emocional@paret
	s.cat o trucar al 667 830 121.
URI:https://www.parets.cat/actualitat/agenda/13025-tardeo-benestar-emocional.html
CLASS:PUBLIC
END:VEVENT
BEGIN:VEVENT
UID:DI_13026@www.parets.cat
DTSTAMP:20260422T031421
DTSTART:20260918T160000
DTEND:20260918T190000
SUMMARY:"Tardeo" Benestar Emocional
LOCATION:Sala Serra 
METHOD:PUBLISH
X-WR-CALNAME:info@parets.cat
X-WR-TIMEZONE:Europe/Madrid
DESCRIPTION:"Tardeo" de Benestar Emocional. Espai segur que busca
	 proporcionar un entorn d’aprenentatge i comprensió de divers
	es temàtiques vinculades al benestar emocional. Es configuren com u
	n espai de trobada destinat a afavorir la participació, la socialit
	zació i l’intercanvi d’experiències, promovent e
	l respecte i la confiança. Per a més informació ens p
	odeu escriure a benestar.emocional@parets.cat o trucar al 667 830 121
	.
URI:https://www.parets.cat/actualitat/agenda/13026-tardeo-benestar-emocional.html
CLASS:PUBLIC
END:VEVENT
BEGIN:VEVENT
UID:DI_13027@www.parets.cat
DTSTAMP:20260422T031421
DTSTART:20260926T100000
DTEND:20260926T130000
SUMMARY:Mini Congrés Benestar Emocional
LOCATION:Plaça de la Vila, S/N 08150 Parets del Vallès
METHOD:PUBLISH
X-WR-CALNAME:info@parets.cat
X-WR-TIMEZONE:Europe/Madrid
DESCRIPTION:Mini Congrés de Benestar Emocional: Físic, nutric
	ió, hidratació i descans. Conjunt d’experièncie
	s teoricopràctiques de 3 hores, impartides per l’equip motor 
	i una altra professional, sobre els cinc àmbits fonamentals del Ben
	estar Emocional: Relacions, Físic, nutrició i descans, Consc
	iència, connexió corporal, espiritual i emocional, Psicoemoc
	ional i Musicoteràpia i natura. Per a més informació 
	ens podeu escriure a benestar.emocional@parets.cat o trucar al 667 83
	0 121.
URI:https://www.parets.cat/actualitat/agenda/13027-mini-congres-benestar-emocional.html
CLASS:PUBLIC
END:VEVENT
BEGIN:VEVENT
UID:DI_13044@www.parets.cat
DTSTAMP:20260422T031421
DTSTART:20260926T100000
DTEND:20260926T130000
SUMMARY:Mini Congrés Benestar Emocional
LOCATION:Plaça de la Vila, S/N 08150 Parets del Vallès
METHOD:PUBLISH
X-WR-CALNAME:info@parets.cat
X-WR-TIMEZONE:Europe/Madrid
DESCRIPTION:Mini Congrés de Benestar Emocional: Físic, n
	utrició, hidratació i descans. Conjunt d’experi&egrave
	;ncies teoricopràctiques de 3 hores, impartides per l’equip m
	otor i una altra professional, sobre els cinc àmbits fonamentals de
	l Benestar Emocional: Relacions, Físic, nutrició i descans, 
	Consciència, connexió corporal, espiritual i emocional, Psic
	oemocional i Musicoteràpia i natura. Per a més informaci&oac
	ute; ens podeu escriure a benestar.emocional@parets.cat o trucar al 6
	67 830 121.
URI:https://www.parets.cat/actualitat/agenda/13044-mini-congres-benestar-emocional.html
CLASS:PUBLIC
END:VEVENT
BEGIN:VEVENT
UID:DI_13037@www.parets.cat
DTSTAMP:20260422T031421
DTSTART:20261002T160000
DTEND:20261002T190000
SUMMARY:"Tardeo" Benestar Emocional
LOCATION:Sala Serra 
METHOD:PUBLISH
X-WR-CALNAME:info@parets.cat
X-WR-TIMEZONE:Europe/Madrid
DESCRIPTION:"Tardeo" de Benestar Emocional Espai segur que busca 
	proporcionar un entorn d’aprenentatge i comprensió de diverse
	s temàtiques vinculades al benestar emocional. Es configuren com un
	 espai de trobada destinat a afavorir la participació, la socialitz
	ació i l’intercanvi d’experiències, promovent el
	 respecte i la confiança. Per a més informació ens po
	deu escriure a benestar.emocional@parets.cat o trucar al 667 830 121.
URI:https://www.parets.cat/actualitat/agenda/13037-tardeo-benestar-emocional.html
CLASS:PUBLIC
END:VEVENT
BEGIN:VEVENT
UID:DI_13038@www.parets.cat
DTSTAMP:20260422T031421
DTSTART:20261016T160000
DTEND:20261016T190000
SUMMARY:"Tardeo" Benestar Emocional
LOCATION:Sala Serra 
METHOD:PUBLISH
X-WR-CALNAME:info@parets.cat
X-WR-TIMEZONE:Europe/Madrid
DESCRIPTION:"Tardeo" de Benestar Emocional Espai segur que busca 
	proporcionar un entorn d’aprenentatge i comprensió de diverse
	s temàtiques vinculades al benestar emocional. Es configuren com un
	 espai de trobada destinat a afavorir la participació, la socialitz
	ació i l’intercanvi d’experiències, promovent el
	 respecte i la confiança. Per a més informació ens po
	deu escriure a benestar.emocional@parets.cat o trucar al 667 830 121.
URI:https://www.parets.cat/actualitat/agenda/13038-tardeo-benestar-emocional.html
CLASS:PUBLIC
END:VEVENT
BEGIN:VEVENT
UID:DI_13045@www.parets.cat
DTSTAMP:20260422T031421
DTSTART:20261024T100000
DTEND:20261024T190000
SUMMARY:III Congrés Benestar Emocional
LOCATION:Travessera, 1. 08150 Parets del Vallès
METHOD:PUBLISH
X-WR-CALNAME:info@parets.cat
X-WR-TIMEZONE:Europe/Madrid
DESCRIPTION:III Congrés de Benestar Emocional Una gran oportunitat p
	erquè la ciutadania conegui de primera mà a personalitats de
	 referència sobre els temes relacionats amb els 5 pilars del projec
	te.  Per a més informació ens podeu escriure a ben
	estar.emocional@parets.cat o trucar al 667 830 121.
URI:https://www.parets.cat/actualitat/agenda/iii-congres-benestar-emocional.html
CLASS:PUBLIC
END:VEVENT
BEGIN:VEVENT
UID:DI_13039@www.parets.cat
DTSTAMP:20260422T031421
DTSTART:20261113T160000
DTEND:20261113T190000
SUMMARY:"Tardeo" Benestar Emocional
LOCATION:Sala Serra 
METHOD:PUBLISH
X-WR-CALNAME:info@parets.cat
X-WR-TIMEZONE:Europe/Madrid
DESCRIPTION:"Tardeo" de Benestar Emocional Espai segur que busca 
	proporcionar un entorn d’aprenentatge i comprensió de diverse
	s temàtiques vinculades al benestar emocional. Es configuren com un
	 espai de trobada destinat a afavorir la participació, la socialitz
	ació i l’intercanvi d’experiències, promovent el
	 respecte i la confiança. Per a més informació ens po
	deu escriure a benestar.emocional@parets.cat o trucar al 667 830 121.
URI:https://www.parets.cat/actualitat/agenda/13039-tardeo-benestar-emocional.html
CLASS:PUBLIC
END:VEVENT
BEGIN:VEVENT
UID:DI_13040@www.parets.cat
DTSTAMP:20260422T031421
DTSTART:20261120T160000
DTEND:20261120T190000
SUMMARY:"Tardeo" Benestar Emocional
LOCATION:Sala Serra 
METHOD:PUBLISH
X-WR-CALNAME:info@parets.cat
X-WR-TIMEZONE:Europe/Madrid
DESCRIPTION:"Tardeo" de Benestar Emocional Espai segur que busca 
	proporcionar un entorn d’aprenentatge i comprensió de diverse
	s temàtiques vinculades al benestar emocional. Es configuren com un
	 espai de trobada destinat a afavorir la participació, la socialitz
	ació i l’intercanvi d’experiències, promovent el
	 respecte i la confiança. Per a més informació ens po
	deu escriure a benestar.emocional@parets.cat o trucar al 667 830 121.
URI:https://www.parets.cat/actualitat/agenda/13040-tardeo-benestar-emocional.html
CLASS:PUBLIC
END:VEVENT
BEGIN:VEVENT
UID:DI_13043@www.parets.cat
DTSTAMP:20260422T031421
DTSTART:20261128T100000
DTEND:20261128T130000
SUMMARY:Mini Congrés: Relacions
LOCATION:Plaça de la Vila, S/N 08150 Parets del Vallès
METHOD:PUBLISH
X-WR-CALNAME:info@parets.cat
X-WR-TIMEZONE:Europe/Madrid
DESCRIPTION:Mini Congrés: Relacions Conjunt d’experiènc
	ies teoricopràctiques de 3 hores, impartides per l’equip moto
	r i una altra professional, sobre els cinc àmbits fonamentals del B
	enestar Emocional: Relacions, Físic, nutrició i descans, Con
	sciència, connexió corporal, espiritual i emocional, Psicoem
	ocional i Musicoteràpia i natura.
URI:https://www.parets.cat/actualitat/agenda/mini-congres-relacions.html
CLASS:PUBLIC
END:VEVENT
BEGIN:VEVENT
UID:DI_13041@www.parets.cat
DTSTAMP:20260422T031421
DTSTART:20261211T160000
DTEND:20261211T190000
SUMMARY:"Tardeo" Benestar Emocional
LOCATION:Sala Serra 
METHOD:PUBLISH
X-WR-CALNAME:info@parets.cat
X-WR-TIMEZONE:Europe/Madrid
DESCRIPTION:"Tardeo" de Benestar Emocional Espai segur que busca 
	proporcionar un entorn d’aprenentatge i comprensió de diverse
	s temàtiques vinculades al benestar emocional. Es configuren com un
	 espai de trobada destinat a afavorir la participació, la socialitz
	ació i l’intercanvi d’experiències, promovent el
	 respecte i la confiança. Per a més informació ens po
	deu escriure a benestar.emocional@parets.cat o trucar al 667 830 121.
URI:https://www.parets.cat/actualitat/agenda/13041-tardeo-benestar-emocional.html
CLASS:PUBLIC
END:VEVENT
BEGIN:VEVENT
UID:DI_13042@www.parets.cat
DTSTAMP:20260422T031421
DTSTART:20261218T160000
DTEND:20261218T190000
SUMMARY:"Tardeo" Benestar Emocional
LOCATION:Sala Serra 
METHOD:PUBLISH
X-WR-CALNAME:info@parets.cat
X-WR-TIMEZONE:Europe/Madrid
DESCRIPTION:"Tardeo" de Benestar Emocional Espai segur que busca 
	proporcionar un entorn d’aprenentatge i comprensió de diverse
	s temàtiques vinculades al benestar emocional. Es configuren com un
	 espai de trobada destinat a afavorir la participació, la socialitz
	ació i l’intercanvi d’experiències, promovent el
	 respecte i la confiança. Per a més informació ens po
	deu escriure a benestar.emocional@parets.cat o trucar al 667 830 121.
URI:https://www.parets.cat/actualitat/agenda/13042-tardeo-benestar-emocional.html
CLASS:PUBLIC
END:VEVENT
END:VCALENDAR
