BEGIN:VCALENDAR
VERSION:2.0
CALSCALE:GREGORIAN
PRODID:-//Diputació de Barcelona//DibaCMS//EN
BEGIN:VEVENT
UID:10075
DTSTAMP:20260426T051733
DTSTART:20211105T200000
DTEND:20211105T210000
SUMMARY:Teatre: No sólo duelen los golpes de Pamela Palenciano
LOCATION:
METHOD:PUBLISH
X-WR-CALNAME:info@parets.cat
X-WR-TIMEZONE:Europe/Madrid
DESCRIPTION:Organitza: Servei de Feminisme-LGTBI i Transversalitats
URI:https://www.parets.cat/actualitat/agenda/teatre-no-solo-duelen-los-golpes-de-pamela-palenciano.html
CLASS:PUBLIC
END:VEVENT
END:VCALENDAR
