BEGIN:VCALENDAR
VERSION:2.0
CALSCALE:GREGORIAN
PRODID:-//Diputació de Barcelona//DibaCMS//EN
BEGIN:VEVENT
UID:10098
DTSTAMP:20260426T021320
DTSTART:20211116T181500
DTEND:20211116T000000
SUMMARY:Bressol de Contes a càrrec de Mercè Martínez
LOCATION:
METHOD:PUBLISH
X-WR-CALNAME:info@parets.cat
X-WR-TIMEZONE:Europe/Madrid
DESCRIPTION:Organitza: Biblioteca Can Butjosa
URI:https://www.parets.cat/actualitat/agenda/10098-bressol-de-contes-a-carrec-de-merce-martinez.html
CLASS:PUBLIC
END:VEVENT
END:VCALENDAR
