BEGIN:VCALENDAR
VERSION:2.0
CALSCALE:GREGORIAN
PRODID:-//Diputació de Barcelona//DibaCMS//EN
BEGIN:VEVENT
UID:10099
DTSTAMP:20260425T225612
DTSTART:20211118T180000
DTEND:20211118T000000
SUMMARY:Hora del conte a càrrec de la Gemma G. Vilardell
LOCATION:
METHOD:PUBLISH
X-WR-CALNAME:info@parets.cat
X-WR-TIMEZONE:Europe/Madrid
DESCRIPTION:Organitza: Biblioteca Can Butjosa
URI:https://www.parets.cat/actualitat/agenda/hora-del-conte-a-carrec-de-la-gemma-g-vilardell.html
CLASS:PUBLIC
END:VEVENT
END:VCALENDAR
