BEGIN:VCALENDAR
VERSION:2.0
CALSCALE:GREGORIAN
PRODID:-//Diputació de Barcelona//DibaCMS//EN
BEGIN:VEVENT
UID:10100
DTSTAMP:20260426T021319
DTSTART:20211119T180000
DTEND:20211119T000000
SUMMARY:Club de Literatura Infantil i Juvenil per a adults “Una porta a l’Art”
LOCATION:
METHOD:PUBLISH
X-WR-CALNAME:info@parets.cat
X-WR-TIMEZONE:Europe/Madrid
DESCRIPTION:Organitza: Biblioteca Can Butjosa
URI:https://www.parets.cat/actualitat/agenda/club-de-literatura-infantil-i-juvenil-per-a-adults-una-porta-a-lart.html
CLASS:PUBLIC
END:VEVENT
END:VCALENDAR
