BEGIN:VCALENDAR
VERSION:2.0
CALSCALE:GREGORIAN
PRODID:-//Diputació de Barcelona//DibaCMS//EN
BEGIN:VEVENT
UID:10103
DTSTAMP:20260426T032733
DTSTART:20211120T120000
DTEND:20211120T210000
SUMMARY:Festival Binary Emotions 2021
LOCATION:
METHOD:PUBLISH
X-WR-CALNAME:info@parets.cat
X-WR-TIMEZONE:Europe/Madrid
DESCRIPTION:Organitza: Binary Emotions Records
URI:https://www.parets.cat/actualitat/agenda/festival-binary-emotions-2021.html
CLASS:PUBLIC
END:VEVENT
END:VCALENDAR
