BEGIN:VCALENDAR
VERSION:2.0
CALSCALE:GREGORIAN
PRODID:-//Diputació de Barcelona//DibaCMS//EN
BEGIN:VEVENT
UID:10104
DTSTAMP:20260426T013827
DTSTART:20211120T170000
DTEND:20211120T000000
SUMMARY:La Faktoría d'Idees
LOCATION:
METHOD:PUBLISH
X-WR-CALNAME:info@parets.cat
X-WR-TIMEZONE:Europe/Madrid
DESCRIPTION:Organitza: Casal de Joves Cal Jardiner
URI:https://www.parets.cat/actualitat/agenda/la-faktoria-didees.html
CLASS:PUBLIC
END:VEVENT
END:VCALENDAR
