BEGIN:VCALENDAR
VERSION:2.0
CALSCALE:GREGORIAN
PRODID:-//Diputació de Barcelona//DibaCMS//EN
BEGIN:VEVENT
UID:10107
DTSTAMP:20260426T013827
DTSTART:20211121T100000
DTEND:20211121T000000
SUMMARY:Passejada solidària de l’Associació Protectora d’Animals
LOCATION:
METHOD:PUBLISH
X-WR-CALNAME:info@parets.cat
X-WR-TIMEZONE:Europe/Madrid
DESCRIPTION:Organitza: Associació Protectora d’Animals
URI:https://www.parets.cat/actualitat/agenda/passejada-solidaria-de-lassociacio-protectora-danimals.html
CLASS:PUBLIC
END:VEVENT
END:VCALENDAR
