BEGIN:VCALENDAR
VERSION:2.0
CALSCALE:GREGORIAN
PRODID:-//Diputació de Barcelona//DibaCMS//EN
BEGIN:VEVENT
UID:10110
DTSTAMP:20260426T013827
DTSTART:20211123T181500
DTEND:20211123T200000
SUMMARY:Taller familiar “Xxxxt... És un secret”
LOCATION:
METHOD:PUBLISH
X-WR-CALNAME:info@parets.cat
X-WR-TIMEZONE:Europe/Madrid
DESCRIPTION:Organitza: Biblioteca Can Butjosa
URI:https://www.parets.cat/actualitat/agenda/taller-familiar-xxxxt-es-un-secret.html
CLASS:PUBLIC
END:VEVENT
END:VCALENDAR
