BEGIN:VCALENDAR
VERSION:2.0
CALSCALE:GREGORIAN
PRODID:-//Diputació de Barcelona//DibaCMS//EN
BEGIN:VEVENT
UID:10111
DTSTAMP:20260426T013826
DTSTART:20211123T000000
DTEND:20211130T000000
SUMMARY:Reduïm Residus!
LOCATION:
METHOD:PUBLISH
X-WR-CALNAME:info@parets.cat
X-WR-TIMEZONE:Europe/Madrid
DESCRIPTION:Organitza: Escola de la Natura
URI:https://www.parets.cat/actualitat/agenda/reduim-residus.html
CLASS:PUBLIC
END:VEVENT
END:VCALENDAR
