BEGIN:VCALENDAR
VERSION:2.0
CALSCALE:GREGORIAN
PRODID:-//Diputació de Barcelona//DibaCMS//EN
BEGIN:VEVENT
UID:10113
DTSTAMP:20260426T013827
DTSTART:20211124T183000
DTEND:20211124T200000
SUMMARY:Club de lectura. L’Amic retrobat” de Fred Uhlman
LOCATION:
METHOD:PUBLISH
X-WR-CALNAME:info@parets.cat
X-WR-TIMEZONE:Europe/Madrid
DESCRIPTION:Organitza: Biblioteca Can Rajoler
URI:https://www.parets.cat/actualitat/agenda/club-de-lectura-lamic-retrobat-de-fred-uhlman.html
CLASS:PUBLIC
END:VEVENT
END:VCALENDAR
