BEGIN:VCALENDAR
VERSION:2.0
CALSCALE:GREGORIAN
PRODID:-//Diputació de Barcelona//DibaCMS//EN
BEGIN:VEVENT
UID:10115
DTSTAMP:20260426T012108
DTSTART:20211125T180000
DTEND:20211125T000000
SUMMARY:Hora del conte a càrrec d’Eneida Horta. 
LOCATION:
METHOD:PUBLISH
X-WR-CALNAME:info@parets.cat
X-WR-TIMEZONE:Europe/Madrid
DESCRIPTION:Organitza: Biblioteca Can Butjosa
URI:https://www.parets.cat/actualitat/agenda/hora-del-conte-a-carrec-deneida-horta-.html
CLASS:PUBLIC
END:VEVENT
END:VCALENDAR
