BEGIN:VCALENDAR
VERSION:2.0
CALSCALE:GREGORIAN
PRODID:-//Diputació de Barcelona//DibaCMS//EN
BEGIN:VEVENT
UID:10116
DTSTAMP:20260426T045558
DTSTART:20211125T121500
DTEND:20211125T000000
SUMMARY:Lectura manifest 25N
LOCATION:
METHOD:PUBLISH
X-WR-CALNAME:info@parets.cat
X-WR-TIMEZONE:Europe/Madrid
DESCRIPTION:Organitza: Servei de Feminisme-LGTBI i Transversalitats
URI:https://www.parets.cat/actualitat/agenda/lectura-manifest-25n.html
CLASS:PUBLIC
END:VEVENT
END:VCALENDAR
