BEGIN:VCALENDAR
VERSION:2.0
CALSCALE:GREGORIAN
PRODID:-//Diputació de Barcelona//DibaCMS//EN
BEGIN:VEVENT
UID:10120
DTSTAMP:20260426T045558
DTSTART:20211127T170000
DTEND:20211127T000000
SUMMARY:Playback per La Marató: Ja hi tornem a ser
LOCATION:
METHOD:PUBLISH
X-WR-CALNAME:info@parets.cat
X-WR-TIMEZONE:Europe/Madrid
DESCRIPTION:Organitza: Casals Municipals de Gent Gran
URI:https://www.parets.cat/actualitat/agenda/playback-per-la-marato-ja-hi-tornem-a-ser.html
CLASS:PUBLIC
END:VEVENT
END:VCALENDAR
