BEGIN:VCALENDAR
VERSION:2.0
CALSCALE:GREGORIAN
PRODID:-//Diputació de Barcelona//DibaCMS//EN
BEGIN:VEVENT
UID:10121
DTSTAMP:20260426T013839
DTSTART:20211128T120000
DTEND:20211128T000000
SUMMARY:Inauguració escultura de la Plaça de la Salut
LOCATION:
METHOD:PUBLISH
X-WR-CALNAME:info@parets.cat
X-WR-TIMEZONE:Europe/Madrid
DESCRIPTION:Organitza: Ajuntament de Parets del Vallès
URI:https://www.parets.cat/actualitat/agenda/inauguracio-escultura-de-la-placa-de-la-salut.html
CLASS:PUBLIC
END:VEVENT
END:VCALENDAR
