BEGIN:VCALENDAR
VERSION:2.0
CALSCALE:GREGORIAN
PRODID:-//Diputació de Barcelona//DibaCMS//EN
BEGIN:VEVENT
UID:10125
DTSTAMP:20260425T221342
DTSTART:20211130T160000
DTEND:20211130T000000
SUMMARY:Taller d’autocura per a treballadores de la llar
LOCATION:
METHOD:PUBLISH
X-WR-CALNAME:info@parets.cat
X-WR-TIMEZONE:Europe/Madrid
DESCRIPTION:Organitza: Mujeres Pa Lante
URI:https://www.parets.cat/actualitat/agenda/taller-dautocura-per-a-treballadores-de-la-llar.html
CLASS:PUBLIC
END:VEVENT
END:VCALENDAR
