BEGIN:VCALENDAR
VERSION:2.0
CALSCALE:GREGORIAN
PRODID:-//Diputació de Barcelona//DibaCMS//EN
BEGIN:VEVENT
UID:10133
DTSTAMP:20260426T024324
DTSTART:20211205T110000
DTEND:20211206T140000
SUMMARY:Cartera Reial i tallers
LOCATION:
METHOD:PUBLISH
X-WR-CALNAME:info@parets.cat
X-WR-TIMEZONE:Europe/Madrid
DESCRIPTION:Organitza: Agrupament escolta i Guia Sant Jaume
URI:https://www.parets.cat/actualitat/agenda/cartera-reial-i-tallers.html
CLASS:PUBLIC
END:VEVENT
END:VCALENDAR
