BEGIN:VCALENDAR
VERSION:2.0
CALSCALE:GREGORIAN
PRODID:-//Diputació de Barcelona//DibaCMS//EN
BEGIN:VEVENT
UID:10135
DTSTAMP:20260426T010438
DTSTART:20211205T170000
DTEND:20211205T000000
SUMMARY:Un nadal amb swing
LOCATION:
METHOD:PUBLISH
X-WR-CALNAME:info@parets.cat
X-WR-TIMEZONE:Europe/Madrid
DESCRIPTION:Organitza: Ajuntament de Parets del Vallès
URI:https://www.parets.cat/actualitat/agenda/un-nadal-amb-swing.html
CLASS:PUBLIC
END:VEVENT
END:VCALENDAR
