BEGIN:VCALENDAR
VERSION:2.0
CALSCALE:GREGORIAN
PRODID:-//Diputació de Barcelona//DibaCMS//EN
BEGIN:VEVENT
UID:10136
DTSTAMP:20260426T024323
DTSTART:20211205T180000
DTEND:20211205T000000
SUMMARY:Xocolatada a càrrec de la Comissió de Festes
LOCATION:
METHOD:PUBLISH
X-WR-CALNAME:info@parets.cat
X-WR-TIMEZONE:Europe/Madrid
DESCRIPTION:
URI:https://www.parets.cat/actualitat/agenda/xocolatada-a-carrec-de-la-comissio-de-festes.html
CLASS:PUBLIC
END:VEVENT
END:VCALENDAR
