BEGIN:VCALENDAR
VERSION:2.0
CALSCALE:GREGORIAN
PRODID:-//Diputació de Barcelona//DibaCMS//EN
BEGIN:VEVENT
UID:10137
DTSTAMP:20260426T012109
DTSTART:20211206T103000
DTEND:20211206T000000
SUMMARY:Pastorets i Pessebre
LOCATION:
METHOD:PUBLISH
X-WR-CALNAME:info@parets.cat
X-WR-TIMEZONE:Europe/Madrid
DESCRIPTION:
URI:https://www.parets.cat/actualitat/agenda/pastorets-i-pessebre.html
CLASS:PUBLIC
END:VEVENT
END:VCALENDAR
