BEGIN:VCALENDAR
VERSION:2.0
CALSCALE:GREGORIAN
PRODID:-//Diputació de Barcelona//DibaCMS//EN
BEGIN:VEVENT
UID:10138
DTSTAMP:20260426T042701
DTSTART:20211206T120000
DTEND:20211206T000000
SUMMARY:Espectacle de màgia a càrrec del Mag Esparragow
LOCATION:
METHOD:PUBLISH
X-WR-CALNAME:info@parets.cat
X-WR-TIMEZONE:Europe/Madrid
DESCRIPTION:
URI:https://www.parets.cat/actualitat/agenda/espectacle-de-magia-a-carrec-del-mag-esparragow.html
CLASS:PUBLIC
END:VEVENT
END:VCALENDAR
