BEGIN:VCALENDAR
VERSION:2.0
CALSCALE:GREGORIAN
PRODID:-//Diputació de Barcelona//DibaCMS//EN
BEGIN:VEVENT
UID:10140
DTSTAMP:20260426T012111
DTSTART:20211206T180000
DTEND:20211206T000000
SUMMARY:El camell Simba i el patge reial
LOCATION:
METHOD:PUBLISH
X-WR-CALNAME:info@parets.cat
X-WR-TIMEZONE:Europe/Madrid
DESCRIPTION:
URI:https://www.parets.cat/actualitat/agenda/el-camell-simba-i-el-patge-reial.html
CLASS:PUBLIC
END:VEVENT
END:VCALENDAR
