BEGIN:VCALENDAR
VERSION:2.0
CALSCALE:GREGORIAN
PRODID:-//Diputació de Barcelona//DibaCMS//EN
BEGIN:VEVENT
UID:10141
DTSTAMP:20260425T221241
DTSTART:20211209T180000
DTEND:20211209T000000
SUMMARY:Hora del conte Any de rondalles
LOCATION:
METHOD:PUBLISH
X-WR-CALNAME:info@parets.cat
X-WR-TIMEZONE:Europe/Madrid
DESCRIPTION:Organitza: Biblioteca Can Butjosa
URI:https://www.parets.cat/actualitat/agenda/10141-hora-del-conte-any-de-rondalles.html
CLASS:PUBLIC
END:VEVENT
END:VCALENDAR
