BEGIN:VCALENDAR
VERSION:2.0
CALSCALE:GREGORIAN
PRODID:-//Diputació de Barcelona//DibaCMS//EN
BEGIN:VEVENT
UID:10142
DTSTAMP:20260425T235737
DTSTART:20211209T190000
DTEND:20211209T000000
SUMMARY:Concert de Nadal a càrrec de l'Escola Municipal de Música
LOCATION:
METHOD:PUBLISH
X-WR-CALNAME:info@parets.cat
X-WR-TIMEZONE:Europe/Madrid
DESCRIPTION:Organitza: Escola Municipal de Música
URI:https://www.parets.cat/actualitat/agenda/concert-de-nadal-a-carrec-de-lescola-municipal-de-musica.html
CLASS:PUBLIC
END:VEVENT
END:VCALENDAR
