BEGIN:VCALENDAR
VERSION:2.0
CALSCALE:GREGORIAN
PRODID:-//Diputació de Barcelona//DibaCMS//EN
BEGIN:VEVENT
UID:10144
DTSTAMP:20260425T222003
DTSTART:20211212T110000
DTEND:20211212T130000
SUMMARY:Tallers de Nadal a l'Escola Vila Parietes
LOCATION:
METHOD:PUBLISH
X-WR-CALNAME:info@parets.cat
X-WR-TIMEZONE:Europe/Madrid
DESCRIPTION:Organitza: AFA Escola Vila Parietes
URI:https://www.parets.cat/actualitat/agenda/tallers-de-nadal-a-lescola-vila-parietes.html
CLASS:PUBLIC
END:VEVENT
END:VCALENDAR
