BEGIN:VCALENDAR
VERSION:2.0
CALSCALE:GREGORIAN
PRODID:-//Diputació de Barcelona//DibaCMS//EN
BEGIN:VEVENT
UID:10148
DTSTAMP:20260425T185200
DTSTART:20211214T183000
DTEND:20211214T000000
SUMMARY:Gala de Nadal de l’Escola PROdansa
LOCATION:
METHOD:PUBLISH
X-WR-CALNAME:info@parets.cat
X-WR-TIMEZONE:Europe/Madrid
DESCRIPTION:Organitza: PROdansa
URI:https://www.parets.cat/actualitat/agenda/gala-de-nadal-de-lescola-prodansa.html
CLASS:PUBLIC
END:VEVENT
END:VCALENDAR
