BEGIN:VCALENDAR
VERSION:2.0
CALSCALE:GREGORIAN
PRODID:-//Diputació de Barcelona//DibaCMS//EN
BEGIN:VEVENT
UID:10149
DTSTAMP:20260426T010438
DTSTART:20211216T183000
DTEND:20211216T190000
SUMMARY:Recepció institucional esportista Pau Garcia
LOCATION:
METHOD:PUBLISH
X-WR-CALNAME:info@parets.cat
X-WR-TIMEZONE:Europe/Madrid
DESCRIPTION:Organitza: Ajuntament de Parets del Vallès
URI:https://www.parets.cat/actualitat/agenda/recepcio-institucional-esportista-pau-garcia.html
CLASS:PUBLIC
END:VEVENT
END:VCALENDAR
