BEGIN:VCALENDAR
VERSION:2.0
CALSCALE:GREGORIAN
PRODID:-//Diputació de Barcelona//DibaCMS//EN
BEGIN:VEVENT
UID:10151
DTSTAMP:20260425T235919
DTSTART:20211218T170000
DTEND:20211218T000000
SUMMARY:Cantada de Nadales a càrrec del Coro Alborada
LOCATION:
METHOD:PUBLISH
X-WR-CALNAME:info@parets.cat
X-WR-TIMEZONE:Europe/Madrid
DESCRIPTION:Organitza: Ajuntament de Parets del Vallès
URI:https://www.parets.cat/actualitat/agenda/cantada-de-nadales-a-carrec-del-coro-alborada.html
CLASS:PUBLIC
END:VEVENT
END:VCALENDAR
