BEGIN:VCALENDAR
VERSION:2.0
CALSCALE:GREGORIAN
PRODID:-//Diputació de Barcelona//DibaCMS//EN
BEGIN:VEVENT
UID:10153
DTSTAMP:20260425T202642
DTSTART:20211218T120000
DTEND:20211218T140000
SUMMARY:Trobada poètica dedicada al Nadal
LOCATION:
METHOD:PUBLISH
X-WR-CALNAME:info@parets.cat
X-WR-TIMEZONE:Europe/Madrid
DESCRIPTION:Organitza: Niu d’Art Poètic
URI:https://www.parets.cat/actualitat/agenda/trobada-poetica-dedicada-al-nadal.html
CLASS:PUBLIC
END:VEVENT
END:VCALENDAR
