BEGIN:VCALENDAR
VERSION:2.0
CALSCALE:GREGORIAN
PRODID:-//Diputació de Barcelona//DibaCMS//EN
BEGIN:VEVENT
UID:10154
DTSTAMP:20260425T203120
DTSTART:20211219T100000
DTEND:20211219T000000
SUMMARY:CorreParets 2021. 
LOCATION:
METHOD:PUBLISH
X-WR-CALNAME:info@parets.cat
X-WR-TIMEZONE:Europe/Madrid
DESCRIPTION:Organitza: Ajuntament de Parets del Vallès
URI:https://www.parets.cat/actualitat/agenda/correparets-2021-.html
CLASS:PUBLIC
END:VEVENT
END:VCALENDAR
