BEGIN:VCALENDAR
VERSION:2.0
CALSCALE:GREGORIAN
PRODID:-//Diputació de Barcelona//DibaCMS//EN
BEGIN:VEVENT
UID:10156
DTSTAMP:20260425T231159
DTSTART:20211223T000000
DTEND:20220105T000000
SUMMARY:Casalet de Nadal
LOCATION:
METHOD:PUBLISH
X-WR-CALNAME:info@parets.cat
X-WR-TIMEZONE:Europe/Madrid
DESCRIPTION:Organitza: Associació Rodola
URI:https://www.parets.cat/actualitat/agenda/10156-casalet-de-nadal.html
CLASS:PUBLIC
END:VEVENT
END:VCALENDAR
