BEGIN:VCALENDAR
VERSION:2.0
CALSCALE:GREGORIAN
PRODID:-//Diputació de Barcelona//DibaCMS//EN
BEGIN:VEVENT
UID:10161
DTSTAMP:20260425T165342
DTSTART:20211228T180000
DTEND:20211228T200000
SUMMARY:Tertúlia amb l’escriptor Albert Villaró
LOCATION:
METHOD:PUBLISH
X-WR-CALNAME:info@parets.cat
X-WR-TIMEZONE:Europe/Madrid
DESCRIPTION:Organitza: Biblioteca Can Rajoler
URI:https://www.parets.cat/actualitat/agenda/10161-tertulia-amb-lescriptor-albert-villaro.html
CLASS:PUBLIC
END:VEVENT
END:VCALENDAR
