BEGIN:VCALENDAR
VERSION:2.0
CALSCALE:GREGORIAN
PRODID:-//Diputació de Barcelona//DibaCMS//EN
BEGIN:VEVENT
UID:10841
DTSTAMP:20260421T193612
DTSTART:20230715T180000
DTEND:20230715T180000
SUMMARY:Eixamplem la festa! Splash Slide
LOCATION:Carrer Monistrol 
METHOD:PUBLISH
X-WR-CALNAME:info@parets.cat
X-WR-TIMEZONE:Europe/Madrid
DESCRIPTION:
URI:https://www.parets.cat/actualitat/agenda/eixamplem-la-festa-splash-slide.html
CLASS:PUBLIC
END:VEVENT
END:VCALENDAR
