BEGIN:VCALENDAR
VERSION:2.0
CALSCALE:GREGORIAN
PRODID:-//Diputació de Barcelona//DibaCMS//EN
BEGIN:VEVENT
UID:10842
DTSTAMP:20260421T175420
DTSTART:20230715T210000
DTEND:20230715T210000
SUMMARY:Eixamplem la festa! Music Truck Fest
LOCATION:Plaça Dr. Trueta 
METHOD:PUBLISH
X-WR-CALNAME:info@parets.cat
X-WR-TIMEZONE:Europe/Madrid
DESCRIPTION:
URI:https://www.parets.cat/actualitat/agenda/eixamplem-la-festa-music-truck-fest.html
CLASS:PUBLIC
END:VEVENT
END:VCALENDAR
