BEGIN:VCALENDAR
VERSION:2.0
CALSCALE:GREGORIAN
PRODID:-//Diputació de Barcelona//DibaCMS//EN
BEGIN:VEVENT
UID:10846
DTSTAMP:20260421T192022
DTSTART:20230721T190000
DTEND:20230721T190000
SUMMARY:Eixamplem la festa! Family show
LOCATION:Plaça Dr.Trueta 
METHOD:PUBLISH
X-WR-CALNAME:info@parets.cat
X-WR-TIMEZONE:Europe/Madrid
DESCRIPTION:
URI:https://www.parets.cat/actualitat/agenda/10846-eixamplem-la-festa-family-show.html
CLASS:PUBLIC
END:VEVENT
END:VCALENDAR
