BEGIN:VCALENDAR
VERSION:2.0
CALSCALE:GREGORIAN
PRODID:-//Diputació de Barcelona//DibaCMS//EN
BEGIN:VEVENT
UID:10849
DTSTAMP:20260421T192844
DTSTART:20230721T220000
DTEND:20230721T220000
SUMMARY:Eixamplem la festa! Cinema a la Fresca
LOCATION:Plaça Dr. Trueta 
METHOD:PUBLISH
X-WR-CALNAME:info@parets.cat
X-WR-TIMEZONE:Europe/Madrid
DESCRIPTION:
URI:https://www.parets.cat/actualitat/agenda/10849-eixamplem-la-festa-cinema-a-la-fresca.html
CLASS:PUBLIC
END:VEVENT
END:VCALENDAR
