BEGIN:VCALENDAR
VERSION:2.0
CALSCALE:GREGORIAN
PRODID:-//Diputació de Barcelona//DibaCMS//EN
BEGIN:VEVENT
UID:10851
DTSTAMP:20260422T020648
DTSTART:20230722T203000
DTEND:20230722T203000
SUMMARY:Eixamplem la festa! Lliurament premis concurs Endevina-la 2023
LOCATION:Plaça Dr.Trueta 
METHOD:PUBLISH
X-WR-CALNAME:info@parets.cat
X-WR-TIMEZONE:Europe/Madrid
DESCRIPTION:
URI:https://www.parets.cat/actualitat/agenda/eixamplem-la-festa-lliurament-premis-concurs-endevina-la-2023.html
CLASS:PUBLIC
END:VEVENT
END:VCALENDAR
