BEGIN:VCALENDAR
VERSION:2.0
CALSCALE:GREGORIAN
PRODID:-//Diputació de Barcelona//DibaCMS//EN
BEGIN:VEVENT
UID:10856
DTSTAMP:20260421T204359
DTSTART:20230722T203000
DTEND:20230722T203000
SUMMARY:Eixamplem la festa! Hip Hop_Los Niños del Balcón
LOCATION:Plaça Dr. Trueta 
METHOD:PUBLISH
X-WR-CALNAME:info@parets.cat
X-WR-TIMEZONE:Europe/Madrid
DESCRIPTION:
URI:https://www.parets.cat/actualitat/agenda/eixamplem-la-festa-hip-hop-los-ninos-del-balcon.html
CLASS:PUBLIC
END:VEVENT
END:VCALENDAR
