BEGIN:VCALENDAR
VERSION:2.0
CALSCALE:GREGORIAN
PRODID:-//Diputació de Barcelona//DibaCMS//EN
BEGIN:VEVENT
UID:10857
DTSTAMP:20260421T224459
DTSTART:20230722T213000
DTEND:20230722T213000
SUMMARY:Eixamplem la festa! Cremem l'Eixample
LOCATION:Carrer Francesc d'Eiximenis 
METHOD:PUBLISH
X-WR-CALNAME:info@parets.cat
X-WR-TIMEZONE:Europe/Madrid
DESCRIPTION:
URI:https://www.parets.cat/actualitat/agenda/eixamplem-la-festa-cremem-leixample.html
CLASS:PUBLIC
END:VEVENT
END:VCALENDAR
