BEGIN:VCALENDAR
VERSION:2.0
CALSCALE:GREGORIAN
PRODID:-//Diputació de Barcelona//DibaCMS//EN
BEGIN:VEVENT
UID:10860
DTSTAMP:20260421T212745
DTSTART:20230723T120000
DTEND:20230723T120000
SUMMARY:Eixamplem la festa! XXXVII 24 h de Futbol Sala
LOCATION:Passeig Fluvial, s/n Parets del Vallès
METHOD:PUBLISH
X-WR-CALNAME:info@parets.cat
X-WR-TIMEZONE:Europe/Madrid
DESCRIPTION:
URI:https://www.parets.cat/actualitat/agenda/eixamplem-la-festa-xxxvii-24-h-de-futbol-sala.html
CLASS:PUBLIC
END:VEVENT
END:VCALENDAR
