BEGIN:VCALENDAR
VERSION:2.0
CALSCALE:GREGORIAN
PRODID:-//Diputació de Barcelona//DibaCMS//EN
BEGIN:VEVENT
UID:10864
DTSTAMP:20260421T125454
DTSTART:20231105T183000
DTEND:20231105T183000
SUMMARY:Conspiranoia
LOCATION:Travessera, 1. 08150 Parets del Vallès
METHOD:PUBLISH
X-WR-CALNAME:info@parets.cat
X-WR-TIMEZONE:Europe/Madrid
DESCRIPTION:
URI:https://www.parets.cat/actualitat/agenda/conspiranoia.html
CLASS:PUBLIC
END:VEVENT
END:VCALENDAR
