BEGIN:VCALENDAR
VERSION:2.0
CALSCALE:GREGORIAN
PRODID:-//Diputació de Barcelona//DibaCMS//EN
BEGIN:VEVENT
UID:10951
DTSTAMP:20260421T192419
DTSTART:20231010T190000
DTEND:20231010T210000
SUMMARY:Dia mundial de la Salut Mental: Versiones Sentidas and friends
LOCATION:C/ Montcau, s/n 08150 Parets del Vallès
METHOD:PUBLISH
X-WR-CALNAME:info@parets.cat
X-WR-TIMEZONE:Europe/Madrid
DESCRIPTION:
URI:https://www.parets.cat/actualitat/agenda/dia-mundial-de-la-salut-mental-versiones-sentidas-and-friends.html
CLASS:PUBLIC
END:VEVENT
END:VCALENDAR
