BEGIN:VCALENDAR
VERSION:2.0
CALSCALE:GREGORIAN
PRODID:-//Diputació de Barcelona//DibaCMS//EN
BEGIN:VEVENT
UID:10960
DTSTAMP:20260421T192049
DTSTART:20231016T173000
DTEND:20231016T190000
SUMMARY:Club de Lectura – Cicle Mitjà
LOCATION:La Salut, 52 08150 Parets del Vallès
METHOD:PUBLISH
X-WR-CALNAME:info@parets.cat
X-WR-TIMEZONE:Europe/Madrid
DESCRIPTION:
URI:https://www.parets.cat/actualitat/agenda/club-de-lectura--cicle-mitja.html
CLASS:PUBLIC
END:VEVENT
END:VCALENDAR
