BEGIN:VCALENDAR
VERSION:2.0
CALSCALE:GREGORIAN
PRODID:-//Diputació de Barcelona//DibaCMS//EN
BEGIN:VEVENT
UID:10964
DTSTAMP:20260423T134654
DTSTART:20231018T090000
DTEND:20231018T130000
SUMMARY:Recapte amb motiu del Dia Mundial del Càncer de mama
LOCATION:Mercat setmanal Camp de les Peces 
METHOD:PUBLISH
X-WR-CALNAME:info@parets.cat
X-WR-TIMEZONE:Europe/Madrid
DESCRIPTION:
URI:https://www.parets.cat/actualitat/agenda/10964-recapte-amb-motiu-del-dia-mundial-del-cancer-de-mama.html
CLASS:PUBLIC
END:VEVENT
END:VCALENDAR
