BEGIN:VCALENDAR
VERSION:2.0
CALSCALE:GREGORIAN
PRODID:-//Diputació de Barcelona//DibaCMS//EN
BEGIN:VEVENT
UID:10967
DTSTAMP:20260423T133738
DTSTART:20231020T174500
DTEND:20231020T194500
SUMMARY:Club de Literatura Infantil i Juvenil per a adults
LOCATION:La Salut, 52 08150 Parets del Vallès
METHOD:PUBLISH
X-WR-CALNAME:info@parets.cat
X-WR-TIMEZONE:Europe/Madrid
DESCRIPTION:
URI:https://www.parets.cat/actualitat/agenda/10967-club-de-literatura-infantil-i-juvenil-per-a-adults.html
CLASS:PUBLIC
END:VEVENT
END:VCALENDAR
