BEGIN:VCALENDAR
VERSION:2.0
CALSCALE:GREGORIAN
PRODID:-//Diputació de Barcelona//DibaCMS//EN
BEGIN:VEVENT
UID:10976
DTSTAMP:20260421T154841
DTSTART:20231026T173000
DTEND:20231026T173000
SUMMARY:Hora del conte 
LOCATION:La Salut, 52 08150 Parets del Vallès
METHOD:PUBLISH
X-WR-CALNAME:info@parets.cat
X-WR-TIMEZONE:Europe/Madrid
DESCRIPTION:
URI:https://www.parets.cat/actualitat/agenda/10976-hora-del-conte-.html
CLASS:PUBLIC
END:VEVENT
END:VCALENDAR
