BEGIN:VCALENDAR
VERSION:2.0
CALSCALE:GREGORIAN
PRODID:-//Diputació de Barcelona//DibaCMS//EN
BEGIN:VEVENT
UID:10994
DTSTAMP:20260423T114750
DTSTART:20231005T180000
DTEND:20231005T200000
SUMMARY:Taller de cuina
LOCATION:C/ Montcau, s/n 08150 Parets del Vallès
METHOD:PUBLISH
X-WR-CALNAME:info@parets.cat
X-WR-TIMEZONE:Europe/Madrid
DESCRIPTION:
URI:https://www.parets.cat/actualitat/agenda/taller-de-cuina.html
CLASS:PUBLIC
END:VEVENT
END:VCALENDAR
