BEGIN:VCALENDAR
VERSION:2.0
CALSCALE:GREGORIAN
PRODID:-//Diputació de Barcelona//DibaCMS//EN
BEGIN:VEVENT
UID:11007
DTSTAMP:20260421T124054
DTSTART:20231031T170000
DTEND:20231031T200000
SUMMARY:Llaminadura o entremaliadura
LOCATION:Sot d'en Barriques 
METHOD:PUBLISH
X-WR-CALNAME:info@parets.cat
X-WR-TIMEZONE:Europe/Madrid
DESCRIPTION:
URI:https://www.parets.cat/actualitat/agenda/llaminadura-o-entremaliadura.html
CLASS:PUBLIC
END:VEVENT
END:VCALENDAR
