BEGIN:VCALENDAR
VERSION:2.0
CALSCALE:GREGORIAN
PRODID:-//Diputació de Barcelona//DibaCMS//EN
BEGIN:VEVENT
UID:11016
DTSTAMP:20260421T211025
DTSTART:20231103T180000
DTEND:20231103T200000
SUMMARY:Taller per adults
LOCATION:Can Rajoler 08150 Parets del Vallès
METHOD:PUBLISH
X-WR-CALNAME:info@parets.cat
X-WR-TIMEZONE:Europe/Madrid
DESCRIPTION:
URI:https://www.parets.cat/actualitat/agenda/taller-per-adults.html
CLASS:PUBLIC
END:VEVENT
END:VCALENDAR
