BEGIN:VCALENDAR
VERSION:2.0
CALSCALE:GREGORIAN
PRODID:-//Diputació de Barcelona//DibaCMS//EN
BEGIN:VEVENT
UID:11046
DTSTAMP:20260421T122633
DTSTART:20231108T180000
DTEND:20231108T180000
SUMMARY:Faktoria d’Idees: la nostra assemblea
LOCATION:C/ Montcau, s/n 08150 Parets del Vallès
METHOD:PUBLISH
X-WR-CALNAME:info@parets.cat
X-WR-TIMEZONE:Europe/Madrid
DESCRIPTION:
URI:https://www.parets.cat/actualitat/agenda/faktoria-didees-la-nostra-assemblea.html
CLASS:PUBLIC
END:VEVENT
END:VCALENDAR
